BEGIN:VCALENDAR
VERSION:2.0
PRODID:-//MAC-V - ECPv6.15.20//NONSGML v1.0//EN
CALSCALE:GREGORIAN
METHOD:PUBLISH
X-WR-CALNAME:MAC-V
X-ORIGINAL-URL:https://www.mac-v.org
X-WR-CALDESC:Events for MAC-V
REFRESH-INTERVAL;VALUE=DURATION:PT1H
X-Robots-Tag:noindex
X-PUBLISHED-TTL:PT1H
BEGIN:VTIMEZONE
TZID:America/Chicago
BEGIN:DAYLIGHT
TZOFFSETFROM:-0600
TZOFFSETTO:-0500
TZNAME:CDT
DTSTART:20250309T080000
END:DAYLIGHT
BEGIN:STANDARD
TZOFFSETFROM:-0500
TZOFFSETTO:-0600
TZNAME:CST
DTSTART:20251102T070000
END:STANDARD
BEGIN:DAYLIGHT
TZOFFSETFROM:-0600
TZOFFSETTO:-0500
TZNAME:CDT
DTSTART:20260308T080000
END:DAYLIGHT
BEGIN:STANDARD
TZOFFSETFROM:-0500
TZOFFSETTO:-0600
TZNAME:CST
DTSTART:20261101T070000
END:STANDARD
BEGIN:DAYLIGHT
TZOFFSETFROM:-0600
TZOFFSETTO:-0500
TZNAME:CDT
DTSTART:20270314T080000
END:DAYLIGHT
BEGIN:STANDARD
TZOFFSETFROM:-0500
TZOFFSETTO:-0600
TZNAME:CST
DTSTART:20271107T070000
END:STANDARD
END:VTIMEZONE
BEGIN:VEVENT
DTSTART;TZID=America/Chicago:20260425T100000
DTEND;TZID=America/Chicago:20260425T160000
DTSTAMP:20260425T095804
CREATED:20260306T182626Z
LAST-MODIFIED:20260306T182626Z
UID:11561-1777111200-1777132800@www.mac-v.org
SUMMARY:Women's Benefit Seminar
DESCRIPTION:Women Veterans are invited to attend this open-house event to learn about the benefits and resources you’ve earned.
URL:https://www.mac-v.org/macv-event/womens-benefit-seminar/
LOCATION:VFW Post 428\, 9 18th Ave. N.\, St. Cloud\, MN\, United States
CATEGORIES:Partner Project,Upcoming Events
ATTACH;FMTTYPE=image/jpeg:https://www.mac-v.org/wp-content/uploads/2026/03/SERV-023-Womens-Benefits-Seminar-Flier-1-scaled.jpg
END:VEVENT
BEGIN:VEVENT
DTSTART;TZID=America/Chicago:20260425T110000
DTEND;TZID=America/Chicago:20260425T170000
DTSTAMP:20260425T095804
CREATED:20260323T170252Z
LAST-MODIFIED:20260323T170303Z
UID:11633-1777114800-1777136400@www.mac-v.org
SUMMARY:Revitalizing Veterans' Dreams Grand Opening Event
DESCRIPTION:  \nThe event will include a Team Workout at noon ($22 to participate in the workout) and a Free Car Show and Cookout.
URL:https://www.mac-v.org/macv-event/revitalizing-veterans-dreams-grand-opening-event/
LOCATION:Revitalizing Veterans’ Dreams\, 2950 Chaska Blvd\, Chaska\, MN\, 55318\, United States
CATEGORIES:Partner Project,Upcoming Events
ATTACH;FMTTYPE=image/jpeg:https://www.mac-v.org/wp-content/uploads/2026/03/a7b25d_8f625b0130584a4d8f435ec9eb43ede0.jpg
END:VEVENT
BEGIN:VEVENT
DTSTART;TZID=America/Chicago:20260428T100000
DTEND;TZID=America/Chicago:20260428T150000
DTSTAMP:20260425T095804
CREATED:20260323T191449Z
LAST-MODIFIED:20260323T192108Z
UID:11636-1777370400-1777388400@www.mac-v.org
SUMMARY:People of Color Career Fair
DESCRIPTION:Network with over 1000 professionals\, 50+ employer partners\, 10+ professional organizations\, Free headshots ($300 value)\, Interview and resume workshops\, and Networking Breakfasts across 4 industries \nClick here to register!
URL:https://www.mac-v.org/macv-event/people-of-color-career-fair-2/
LOCATION:Saint Paul RiverCentre\, 175 Kellogg Blvd West\, St Paul\, MN\, MN\, 55102\, United States
CATEGORIES:Employment Opportunity
ATTACH;FMTTYPE=image/jpeg:https://www.mac-v.org/wp-content/uploads/2026/03/People-of-Color-Career-Fair-28APR26.jpg
END:VEVENT
END:VCALENDAR