BEGIN:VCALENDAR
VERSION:2.0
PRODID:-//MAC-V - ECPv6.15.20//NONSGML v1.0//EN
CALSCALE:GREGORIAN
METHOD:PUBLISH
X-WR-CALNAME:MAC-V
X-ORIGINAL-URL:https://www.mac-v.org
X-WR-CALDESC:Events for MAC-V
REFRESH-INTERVAL;VALUE=DURATION:PT1H
X-Robots-Tag:noindex
X-PUBLISHED-TTL:PT1H
BEGIN:VTIMEZONE
TZID:America/Chicago
BEGIN:DAYLIGHT
TZOFFSETFROM:-0600
TZOFFSETTO:-0500
TZNAME:CDT
DTSTART:20220313T080000
END:DAYLIGHT
BEGIN:STANDARD
TZOFFSETFROM:-0500
TZOFFSETTO:-0600
TZNAME:CST
DTSTART:20221106T070000
END:STANDARD
BEGIN:DAYLIGHT
TZOFFSETFROM:-0600
TZOFFSETTO:-0500
TZNAME:CDT
DTSTART:20230312T080000
END:DAYLIGHT
BEGIN:STANDARD
TZOFFSETFROM:-0500
TZOFFSETTO:-0600
TZNAME:CST
DTSTART:20231105T070000
END:STANDARD
BEGIN:DAYLIGHT
TZOFFSETFROM:-0600
TZOFFSETTO:-0500
TZNAME:CDT
DTSTART:20240310T080000
END:DAYLIGHT
BEGIN:STANDARD
TZOFFSETFROM:-0500
TZOFFSETTO:-0600
TZNAME:CST
DTSTART:20241103T070000
END:STANDARD
END:VTIMEZONE
BEGIN:VEVENT
DTSTART;TZID=America/Chicago:20230428T081500
DTEND;TZID=America/Chicago:20230428T163000
DTSTAMP:20260423T003224
CREATED:20230309T184737Z
LAST-MODIFIED:20230309T184737Z
UID:6102-1682669700-1682699400@www.mac-v.org
SUMMARY:2023 Military Mental Illness Conference
DESCRIPTION:  \nA day filled with understanding mental health\, reducing the stigma of mental health within our military families\, and connection. Click here to sign up!
URL:https://www.mac-v.org/macv-event/2023-military-mental-illness-conference/
LOCATION:Camp Ripley Hangar Conference Center\, 15000 MN-115\, Little Falls\, MN\, 56345\, United States
CATEGORIES:Networking,Partner Project,Upcoming Events
ATTACH;FMTTYPE=image/jpeg:https://www.mac-v.org/wp-content/uploads/2023/03/331253006_1769682740092246_4153625911031149901_n-1.jpg
END:VEVENT
BEGIN:VEVENT
DTSTART;TZID=America/Chicago:20230428T173000
DTEND;TZID=America/Chicago:20230428T220000
DTSTAMP:20260423T003224
CREATED:20230315T201103Z
LAST-MODIFIED:20230315T201103Z
UID:6165-1682703000-1682719200@www.mac-v.org
SUMMARY:Black\, Silver\, & Blue ETS Gala
DESCRIPTION:The Gala will be an evening full of reflection\, fun\, camaraderie\, and vision. All proceeds benefit ETS services to support veterans and their families. Click here to purchase tickets and learn more!
URL:https://www.mac-v.org/macv-event/black-silver-blue-ets-gala/
LOCATION:Metropolitan Ballroom & Clubroom\, 5418 Wayzata Blvd\, Golden Valley\, 55416\, United States
CATEGORIES:Fundraiser,Networking
ATTACH;FMTTYPE=image/jpeg:https://www.mac-v.org/wp-content/uploads/2023/03/335660634_720059129862263_5605986690904366914_n-1.jpg
ORGANIZER;CN="Every Third Saturday":MAILTO:peersupport@everythirdsaturday.org
END:VEVENT
END:VCALENDAR